BEGIN:VCALENDAR
VERSION:2.0
PRODID:-//Friendship Community - ECPv6.15.20//NONSGML v1.0//EN
CALSCALE:GREGORIAN
METHOD:PUBLISH
X-WR-CALNAME:Friendship Community
X-ORIGINAL-URL:http://www.friendshipcommunity.net
X-WR-CALDESC:Events for Friendship Community
REFRESH-INTERVAL;VALUE=DURATION:PT1H
X-Robots-Tag:noindex
X-PUBLISHED-TTL:PT1H
BEGIN:VTIMEZONE
TZID:America/New_York
BEGIN:DAYLIGHT
TZOFFSETFROM:-0500
TZOFFSETTO:-0400
TZNAME:EDT
DTSTART:20250309T070000
END:DAYLIGHT
BEGIN:STANDARD
TZOFFSETFROM:-0400
TZOFFSETTO:-0500
TZNAME:EST
DTSTART:20251102T060000
END:STANDARD
BEGIN:DAYLIGHT
TZOFFSETFROM:-0500
TZOFFSETTO:-0400
TZNAME:EDT
DTSTART:20260308T070000
END:DAYLIGHT
BEGIN:STANDARD
TZOFFSETFROM:-0400
TZOFFSETTO:-0500
TZNAME:EST
DTSTART:20261101T060000
END:STANDARD
BEGIN:DAYLIGHT
TZOFFSETFROM:-0500
TZOFFSETTO:-0400
TZNAME:EDT
DTSTART:20270314T070000
END:DAYLIGHT
BEGIN:STANDARD
TZOFFSETFROM:-0400
TZOFFSETTO:-0500
TZNAME:EST
DTSTART:20271107T060000
END:STANDARD
END:VTIMEZONE
BEGIN:VEVENT
DTSTART;TZID=America/New_York:20260428T180000
DTEND;TZID=America/New_York:20260428T200000
DTSTAMP:20260421T153049
CREATED:20260121T210156Z
LAST-MODIFIED:20260121T210156Z
UID:10001146-1777399200-1777406400@www.friendshipcommunity.net
SUMMARY:Praise Dinner
DESCRIPTION:
URL:http://www.friendshipcommunity.net/event/praise-dinner/
LOCATION:Lebanon Valley Expo Center\, 80 Rocherty Rd\,\, Lebanon\, PA\, 17042
GEO:40.3030541;-76.4133719
X-APPLE-STRUCTURED-LOCATION;VALUE=URI;X-ADDRESS=Lebanon Valley Expo Center 80 Rocherty Rd Lebanon PA 17042;X-APPLE-RADIUS=500;X-TITLE=80 Rocherty Rd\,:geo:-76.4133719,40.3030541
END:VEVENT
BEGIN:VEVENT
DTSTART;TZID=America/New_York:20260428T180000
DTEND;TZID=America/New_York:20260428T200000
DTSTAMP:20260421T153049
CREATED:20260319T155056Z
LAST-MODIFIED:20260319T155316Z
UID:10001153-1777399200-1777406400@www.friendshipcommunity.net
SUMMARY:Wenger Praise Dinner
DESCRIPTION:
URL:http://www.friendshipcommunity.net/event/wenger-praise-dinner/
LOCATION:Lebanon Valley Expo Center\, 80 Rocherty Rd\,\, Lebanon\, PA\, 17042
GEO:40.3030541;-76.4133719
X-APPLE-STRUCTURED-LOCATION;VALUE=URI;X-ADDRESS=Lebanon Valley Expo Center 80 Rocherty Rd Lebanon PA 17042;X-APPLE-RADIUS=500;X-TITLE=80 Rocherty Rd\,:geo:-76.4133719,40.3030541
END:VEVENT
END:VCALENDAR